BEGIN:VCALENDAR
VERSION:2.0
PRODID:-//4 GRADA DRAGODID - ECPv6.15.20//NONSGML v1.0//EN
CALSCALE:GREGORIAN
METHOD:PUBLISH
X-WR-CALNAME:4 GRADA DRAGODID
X-ORIGINAL-URL:https://www.dragodid.org
X-WR-CALDESC:Events for 4 GRADA DRAGODID
REFRESH-INTERVAL;VALUE=DURATION:PT1H
X-Robots-Tag:noindex
X-PUBLISHED-TTL:PT1H
BEGIN:VTIMEZONE
TZID:Europe/Zagreb
BEGIN:DAYLIGHT
TZOFFSETFROM:+0100
TZOFFSETTO:+0200
TZNAME:CEST
DTSTART:20230326T010000
END:DAYLIGHT
BEGIN:STANDARD
TZOFFSETFROM:+0200
TZOFFSETTO:+0100
TZNAME:CET
DTSTART:20231029T010000
END:STANDARD
BEGIN:DAYLIGHT
TZOFFSETFROM:+0100
TZOFFSETTO:+0200
TZNAME:CEST
DTSTART:20240331T010000
END:DAYLIGHT
BEGIN:STANDARD
TZOFFSETFROM:+0200
TZOFFSETTO:+0100
TZNAME:CET
DTSTART:20241027T010000
END:STANDARD
BEGIN:DAYLIGHT
TZOFFSETFROM:+0100
TZOFFSETTO:+0200
TZNAME:CEST
DTSTART:20250330T010000
END:DAYLIGHT
BEGIN:STANDARD
TZOFFSETFROM:+0200
TZOFFSETTO:+0100
TZNAME:CET
DTSTART:20251026T010000
END:STANDARD
END:VTIMEZONE
BEGIN:VEVENT
DTSTART;TZID=Europe/Zagreb:20240922T200000
DTEND;TZID=Europe/Zagreb:20240922T213000
DTSTAMP:20260422T193546
CREATED:20240912T181315Z
LAST-MODIFIED:20240912T181623Z
UID:15572-1727035200-1727040600@www.dragodid.org
SUMMARY:Hvarska premijera dokumentarnog filma „Kamena čipka našeg sela“
DESCRIPTION:Velo Grablje\, selo na otoku Hvaru\, jedan je od najvećih i najbolje očuvanih primjera suhozidne gradnje. Škrta zemlja i mukotrpan rad našeg težaka oblikovali su čitav krajolik suhozidom (u dijalektu zvanom gomile). Udruga za zaštitu i revitalizaciju Veloga Grablja „Pjover“\, kao krunu dugogodišnjih nastojanja i truda\, a najviše kao dug našim precima\, organizirala je u ožujku 2024. godine manifestaciju „Dani suhozida na Hvaru“\, tijekom koje je pokrenuta inicijativa da se čudesan prostor oko sela proglasi suhozidnim parkom.\n\n\nU sklopu programa manifestacije dokumentiran je video zapis\, koji će premijerno prikazati u Hvaru\, na Venerandi\, u nedjelju\, 22. rujna 2024.\, s početkom u 20 sati.\n\n\n\nSvi ste pozvani\, ulaz je slobodan!\n\n\n\n\n\n\nRežija: Igor Crnković\n\n\nKamera: Igor Crnković i Borut Brozović\n\n\nGlazba: Nino Marević\n\n\nProdukcija: Pilot Medija i udruga Pjover\n\n\nTrajanje: 20 min\n\n\n\nTuristička zajednica grada Hvara\, Grad Hvar\, U. Pjover\, Kino Mediteran\, Pilot Media
URL:https://www.dragodid.org/event/hvarska-premijera-dokumentarnog-filma-kamena-cipka-naseg-sela/
LOCATION:Hvar\, Veneranda\, Croatia (Local Name: Hrvatska)
CATEGORIES:predavanja
END:VEVENT
END:VCALENDAR