BEGIN:VCALENDAR
VERSION:2.0
PRODID:-//4 GRADA DRAGODID - ECPv6.15.20//NONSGML v1.0//EN
CALSCALE:GREGORIAN
METHOD:PUBLISH
X-ORIGINAL-URL:https://www.dragodid.org
X-WR-CALDESC:Events for 4 GRADA DRAGODID
REFRESH-INTERVAL;VALUE=DURATION:PT1H
X-Robots-Tag:noindex
X-PUBLISHED-TTL:PT1H
BEGIN:VTIMEZONE
TZID:Europe/Zagreb
BEGIN:DAYLIGHT
TZOFFSETFROM:+0100
TZOFFSETTO:+0200
TZNAME:CEST
DTSTART:20230326T010000
END:DAYLIGHT
BEGIN:STANDARD
TZOFFSETFROM:+0200
TZOFFSETTO:+0100
TZNAME:CET
DTSTART:20231029T010000
END:STANDARD
BEGIN:DAYLIGHT
TZOFFSETFROM:+0100
TZOFFSETTO:+0200
TZNAME:CEST
DTSTART:20240331T010000
END:DAYLIGHT
BEGIN:STANDARD
TZOFFSETFROM:+0200
TZOFFSETTO:+0100
TZNAME:CET
DTSTART:20241027T010000
END:STANDARD
BEGIN:DAYLIGHT
TZOFFSETFROM:+0100
TZOFFSETTO:+0200
TZNAME:CEST
DTSTART:20250330T010000
END:DAYLIGHT
BEGIN:STANDARD
TZOFFSETFROM:+0200
TZOFFSETTO:+0100
TZNAME:CET
DTSTART:20251026T010000
END:STANDARD
END:VTIMEZONE
BEGIN:VEVENT
DTSTART;VALUE=DATE:20241004
DTEND;VALUE=DATE:20241006
DTSTAMP:20260421T105016
CREATED:20240522T163417Z
LAST-MODIFIED:20241004T082021Z
UID:15341-1728000000-1728172799@www.dragodid.org
SUMMARY:Suhozidni susret Konavle 2024. i 7. Prvenstvo Hrvatske u gradnji suhozida
DESCRIPTION:Predstavljamo vam program Suhozidnog susreta u Konavlima i 7. Prvenstva Hrvatske u gradnji suhozida! \nDatum nam se polako bliži\, i pravi je trenutak da s vama podijelimo raspored dvodnevnog događanja. Otvorenje Susreta će se odviti u Franjevačkom samostanu sv. Vlaha u Pridvorju\, gdje ćete imati priliku posjetiti izložbu fotografija uz zakusku. Idući dan dođite navijati za svoje favorite na Prvenstvu i sudjelujte u radionici gradnje suhozida koja će se događati usporedno. \n⚒ Vidimo se u Konavlima 4. i 5. listopada!
URL:https://www.dragodid.org/event/suhozidni-susret-2024-i-7-prvenstvo-hrvatske-u-gradnji-suhozida/
LOCATION:Konavle\, Konavle\, Croatia (Local Name: Hrvatska)
CATEGORIES:predavanja,suhozidne radionice
END:VEVENT
BEGIN:VEVENT
DTSTART;TZID=Europe/Zagreb:20240922T200000
DTEND;TZID=Europe/Zagreb:20240922T213000
DTSTAMP:20260421T105016
CREATED:20240912T181315Z
LAST-MODIFIED:20240912T181623Z
UID:15572-1727035200-1727040600@www.dragodid.org
SUMMARY:Hvarska premijera dokumentarnog filma „Kamena čipka našeg sela“
DESCRIPTION:Velo Grablje\, selo na otoku Hvaru\, jedan je od najvećih i najbolje očuvanih primjera suhozidne gradnje. Škrta zemlja i mukotrpan rad našeg težaka oblikovali su čitav krajolik suhozidom (u dijalektu zvanom gomile). Udruga za zaštitu i revitalizaciju Veloga Grablja „Pjover“\, kao krunu dugogodišnjih nastojanja i truda\, a najviše kao dug našim precima\, organizirala je u ožujku 2024. godine manifestaciju „Dani suhozida na Hvaru“\, tijekom koje je pokrenuta inicijativa da se čudesan prostor oko sela proglasi suhozidnim parkom.\n\n\nU sklopu programa manifestacije dokumentiran je video zapis\, koji će premijerno prikazati u Hvaru\, na Venerandi\, u nedjelju\, 22. rujna 2024.\, s početkom u 20 sati.\n\n\n\nSvi ste pozvani\, ulaz je slobodan!\n\n\n\n\n\n\nRežija: Igor Crnković\n\n\nKamera: Igor Crnković i Borut Brozović\n\n\nGlazba: Nino Marević\n\n\nProdukcija: Pilot Medija i udruga Pjover\n\n\nTrajanje: 20 min\n\n\n\nTuristička zajednica grada Hvara\, Grad Hvar\, U. Pjover\, Kino Mediteran\, Pilot Media
URL:https://www.dragodid.org/event/hvarska-premijera-dokumentarnog-filma-kamena-cipka-naseg-sela/
LOCATION:Hvar\, Veneranda\, Croatia (Local Name: Hrvatska)
CATEGORIES:predavanja
END:VEVENT
BEGIN:VEVENT
DTSTART;TZID=Europe/Zagreb:20240522T190000
DTEND;TZID=Europe/Zagreb:20240522T203000
DTSTAMP:20260421T105016
CREATED:20240518T180304Z
LAST-MODIFIED:20240518T180422Z
UID:15328-1716404400-1716409800@www.dragodid.org
SUMMARY:Predavanje Jelene Kulušić u sklopu izložbe "Materijalno o nematerijalnom" u Etnografskom muzeju Split
DESCRIPTION:Iduće će srijede naša Jelena Kulušić izlaganjem “Udruga 4 grada Dragodid – promocija i popularizacija suhozidne baštine istočnog dijela Jadrana in situ” predstaviti djelovanje naše udruge u Etnografski muzej Split!\n\n\nPosjetite izložbu “Materijalno o nematerijalnom” i bogati program koji su pripremili.\n\n\n\n\n\nPrenosimo poziv Etnografskom muzeja u Splitu:\n\n\nUz novu izložbu EMS-a pod nazivom “MATERIJALNO O NEMATERIJALNOM” osmislili smo program tematski vezan uz zaštićena nematerijalna kulturna dobra.\nProučite\, dođite – s veseljem Vas očekujemo! \n\n\n20. 5. 2024. (PONEDJELJAK)\n\n\n19.00 – otvorenje izložbe „Materijalno o nematerijalnom“\n\n\nMaterijalna i nematerijalna kulturna baština međusobno se toliko prožimaju da ih je ponekad nemoguće promatrati odvojeno. Predmeti su često sastavni dio procesa koji je prepoznat kao nematerijalno kulturno dobro ili su pak krajnji\, „materijalizirani“ rezultat toga procesa. Registrirana nematerijalna kulturna dobra s područja Dalmacije\, stoga\, na ovoj izložbi predstavljamo predmetima iz našeg muzejskog fundusa.\n\n\n19.30. – predavanje „Nematerijalna kulturna baština Splitsko-dalmatinske županije – primjeri dobre prakse očuvanja“\, Ivana Radovani Podrug\, viša stručna savjetnica\, Konzervatorski odjel u Splitu\n\n\n21. 5. 2024. (UTORAK)\n\n\n19. 00 – radionica i predavanje „Zaštićene slastice Makarskog primorja“\, Vedrana Vela Puharić\, ing. preh. teh.\, Park prirode Biokovo\n\n\n22. 5. 2024. (SRIJEDA)\n\n\n19. 00 – predavanje „Udruga 4 grada Dragodid – promocija i popularizacija suhozidne baštine istočnog dijela Jadrana in situ“\, Jelena Kulušić\, etnologija i kulturna antropologija\, Udruga 4 grada Dragodid\n\n\n23. 5. 2024. (ČETVRTAK)\n\n\n11. 00 – promocija publikacije za djecu „Baština oko nas“\, autori Vedrana Premuž Đipalo i Ivan Svaguša\n\n\n24. 5. 2024. (PETAK)\n\n\n19. 00 – Kulturno baštinski kviz – voditelj Dasen Petrić\n\n\nVidimo se u Etnografskom!
URL:https://www.dragodid.org/event/predavanje-jelene-kulusic-u-sklopu-izlozbe-materijalno-o-nematerijalnom-u-etnografskom-muzeju-split/
CATEGORIES:predavanja
END:VEVENT
END:VCALENDAR