BEGIN:VCALENDAR
VERSION:2.0
PRODID:-//4 GRADA DRAGODID - ECPv6.15.20//NONSGML v1.0//EN
CALSCALE:GREGORIAN
METHOD:PUBLISH
X-WR-CALNAME:4 GRADA DRAGODID
X-ORIGINAL-URL:https://www.dragodid.org
X-WR-CALDESC:Events for 4 GRADA DRAGODID
REFRESH-INTERVAL;VALUE=DURATION:PT1H
X-Robots-Tag:noindex
X-PUBLISHED-TTL:PT1H
BEGIN:VTIMEZONE
TZID:Europe/Zagreb
BEGIN:DAYLIGHT
TZOFFSETFROM:+0100
TZOFFSETTO:+0200
TZNAME:CEST
DTSTART:20240331T010000
END:DAYLIGHT
BEGIN:STANDARD
TZOFFSETFROM:+0200
TZOFFSETTO:+0100
TZNAME:CET
DTSTART:20241027T010000
END:STANDARD
BEGIN:DAYLIGHT
TZOFFSETFROM:+0100
TZOFFSETTO:+0200
TZNAME:CEST
DTSTART:20250330T010000
END:DAYLIGHT
BEGIN:STANDARD
TZOFFSETFROM:+0200
TZOFFSETTO:+0100
TZNAME:CET
DTSTART:20251026T010000
END:STANDARD
BEGIN:DAYLIGHT
TZOFFSETFROM:+0100
TZOFFSETTO:+0200
TZNAME:CEST
DTSTART:20260329T010000
END:DAYLIGHT
BEGIN:STANDARD
TZOFFSETFROM:+0200
TZOFFSETTO:+0100
TZNAME:CET
DTSTART:20261025T010000
END:STANDARD
END:VTIMEZONE
BEGIN:VEVENT
DTSTART;VALUE=DATE:20250503
DTEND;VALUE=DATE:20250504
DTSTAMP:20260422T071638
CREATED:20250429T085738Z
LAST-MODIFIED:20250429T085738Z
UID:16558-1746230400-1746316799@www.dragodid.org
SUMMARY:Suhozidna radionica Kamik & Gromači 7 u Mošćeničkoj Dragi
DESCRIPTION:Organizator: Udruga Brsečki česan\nDatum: 3.5.2025. s početkom u 9 sati\nLokacija: imanje Petra Barkovića Šćoca na adresi Šćoci 29 u Svetoj Jeleni (Mošćenička Draga) \n \nNajava dolaska na broj mobitela 0918852422 ili putem maila: brseckicesan@gmail.com. Treba doći u radnoj odjeći i radnim cipelama sa rukavicama i šeširom. Na organizatoru je okrjepa i piće. \nImanje na kojemu se radionica održava je OPG na kojem članovi udruge sade kultnu sortu brsečki česan (u suradnji sa Primorsko-goranskom županijom i Institutom za poljoprivredu i turizam u Poreču) i koje ima suhozide koji sprečavaju eroziju zemlje i nastanak požara te je sastavni element primorskog krajolika koji je sam po sebi priznata vrijednost po Konvenciji o europskim krajobrazima čiji je Hrvatska potpisnik. \n \nRadionicu sufinanciraju Primorsko-goranska županija\, Općina Mošćenička Draga\, Grad Kastav i LAG Terra liburna.
URL:https://www.dragodid.org/event/suhozidna-radionica-kamik-gromaci-7-u-moscenickoj-dragi/
CATEGORIES:suhozidne radionice
END:VEVENT
BEGIN:VEVENT
DTSTART;VALUE=DATE:20250509
DTEND;VALUE=DATE:20250512
DTSTAMP:20260422T071638
CREATED:20250506T080524Z
LAST-MODIFIED:20250506T080607Z
UID:16585-1746748800-1747007999@www.dragodid.org
SUMMARY:Radionica suhozidanja „Vratlo 2025“\, Crna Gora
DESCRIPTION:Organizator: Planinarski klub Subra\nLokacija: kod planinarskog doma „Za Vratlom“ (1160 m)\, Park prirode Orjen\, Crna Gora\nDatum: 9. – 11. svibnja 2025. \n \nPrenosimo poziv organizatora: \nGradnja suvozida ne samo da pruža veliko fizičko zadovoljstvo\, već također podstiče pažnju i vrijeme za zdravo razmišljanje. Suvozidi su važan dio našeg naslijeđa. Oni također pružaju utočište za sitne divlje životinje i formiraju čvrste granice za stoku. Nažalost\, mnogi naši suvozidi propadaju jer se gube tradicionalne vještine potrebne za njihovo održavanje. Pridružite nam se na ovom događaju kako biste saznali više o ovom drevnom zanatu i pokušali dodati “svoj kamen“! \nNaučite principe i primjenu tradicionalnih načina gradnje sa kamenom u tehnici nasuvo\, pod stručnim vodstvom mentora dipl. arheologa Željka Starčevića (PK Subra\, odnosno Park prirode Orjen-zaštita i valorizacija kulturne baštine). Ako želite da počnete učiti o tome kako se grade suvozidi\, ili želite provjeriti svoje razumijevanje uz stručno vodstvo\, pridružite nam se na radionici! Možda planirate da obnavljate suvomeđu kod stare kuće na selu\, uredite vrt ukrasnim suvozidom ili da sakupite osnovno znanje prije nego unajmite nekog drugog za izgradnju-obnovu suvozida? Možda razmišljate o dodavanju suvozida u usluge koje već pružate kao izvođač radova na pejzažnom uređenju? Bez obzira na vašu motivaciju i iskustvo\, ova uvodna radionica je polazna tačka za vas. \n9\, 10. i 11. maja (petak popodne\, subota i nedjelja)\, kod planinarskog doma „Za Vratlom“ (1160 m)\, u Parku prirode Orjen\, organizuje se edukativna radionica suvozidne gradnje. \n– Prijave za radionicu su putem viber-poruke na broj 069360803\, koja treba da sadrži ime i prezime\, godište i eventualno prethodno iskustvo\, te motiv za učestvovanje (kratko)\n– Na isti gore navedeni broj se takođe mogu dobiti i dodatne informacije\, a tu je i facebook stranica organizatora\, te instagram\n– Prijavljivanje je moguće do četvrtka\, 8. maja\, do 20h\n– Učesnici moraju imati čvrstu obuću i radnu odjeću\, a na terenu će im biti obezbeđene rukavice i ostala potrebna oprema\, odnosno alat\n– Učesnici moraju imati osnovno iskustvo boravka/rada u prirodi\n– Minimalni broj prijavljenih: 5\n– Maksimalni broj prijavljenih: 15\n– Radionica je pogodna za odrasle (18+)\n– Jezik mentora: jezici ex YU prostora\n– Učešće je na sopstvenu odgovornost\n– Troškovi transporta opreme ka domu\, smještaja i ishrane su pokriveni zahvaljujući podršci Ministarstva ekologije\, održivog razvoja i razvoja sjevera kroz projekat “Integrisanje biodiverziteta u sektorske politike i prakse i jačanje zaštite ključnih tačaka biodiverziteta u Crnoj Gori“\, finansiranog od strane Globalnog fonda za životnu sredinu (GEF). \nPotreban nivo vještina: Nije neophodno prethodno iskustvo u gradnji sa kamenom (a dobro došlo je)\nŠta trebam ponijeti? Za radionicu ipak preporučujemo dobri stari\, notes i olovku\, a za boravak u domu se pripremite na promjenljivo orjensko vrijeme\, za sunce i oblake\, naravno\, uz ruksak sa vrećom za spavanje\, rezervnom odjećom i obućom\, sredstvima za higijenu\, grickalicama po izboru\, telefonom sa punjačem…\nDobro je znati: Mada je gradnja suvozida pristupačna svakoj umjereno sposobnoj i aktivnoj osobi\, to je ipak prvenstveno fizički posao. Molimo vas da dođite obučeni u odjeću za koja vam ne smeta da se zaprlja. \nŠta možete očekivati: Temperaturu u prosjeku nižu za 8 stepeni u odnosu na priobalje\, široke planinske vidike\, vrhove\, šume i livade\, miris poljskog cvijeća i naravno-obilje kamena – dobrodošli na Orjen! \nŠta ćete naučiti: Priprema „gradilišta“\, odabir kamena\, vrste kamena\, obnova podzida\, način slaganja na preklop\, primjena škalje za popunu\, principi slaganja duplice i jednostruke međe\, osnove klesanja\, principi slaganja lažnog i pravog volta i naravno\, dosta zanimljive teorije\, kompilaciju sastavljenu od geologije i ekologije\, preko arheologije i etnologije\, do poljoprivrede\, stočarstva i turizma. \nO organizatoru radionice i mentoru: Planinarski klub „Subra“\, odnosno\, njena Sekcija za markaciju i vodičku službu\, između ostalog se bavi održavanjem\, pa i gradnjom\, kamenih pješačkih puteva\, važnog segmenta današnjih planinskih staza\, ali i organizacijom radionica gradnje i Prvenstva Crne Gore u gradnji suvomeđe (u saradnji sa Parkom prirode Orjen).\nDipl. arheolog Željko Starčević ima desetogodišnje iskustvo u organizaciji i izvođenju radionica suvozidne gradnje. Učesnik konferencije u Budvi „Putevima tradicije-studija suhozida na Jegorovom putu“\, te demonstrator u terenskom radu obnove dijela Jegorovog puta u istoj prilici. Učesnik Međunarodnog suvozidnog kongresa u Cavtatu 2021. godine. Učesnik konferencije u Tivtu „Nematerijalno kulturno nasljeđe i održivi turizam“ 2023. godine. Učesnik i predavač u Kotoru i Špiljarima na okruglom stolu i pokaznoj radionici „Gradnja u kamenu u tehnici na suvo\, organizovane u okviru Dana evropske baštine 2018. Pokretač i glavni realizator dvogodišnje volonterske izgadnje pješačih serpentina preko prevoja Malo vratlo (Orjen)\, jedinstvenog pješačkog i panoramskog puta\, rađenog isključivo u tehnici suvomeđe.Inicijator i osnivač Prvenstva Crne Gore u gradnji suvomeđe\, sportsko-kulturološkog događaja koji se svake godine odvija u hercegnovskom zaleđu. \nSATNICA I PROGRAM \nU petak u 17h je okupljanje kod bivšeg motela Borići\, u zaleđu hercegnovskog sela Kameno. Ka pl. domu (3 km) vodi loš makadamski put\, prihvatljiv za terenska vozila\, a alternativa je jednosatno pješačenje\, odnosno prevoz terenskim vozilom organizatora do podnožja prevoja Vratlo\, odakle se nastavlja pješke a vozilo iznosi učesničku opremu.\n18h: Dolazak do pl. doma „Za Vratlom“\, smještaj učesnika-volontera\n19-20h: Upoznavanje\, uvodna riječ\, te prezentacija na temu suvozidne gradnje kod nas i u svijetu\, istorijat\, današnje stanje\, perspektive…\n21h: Večera\, druženje uz logorsku vatru \nSubota\, 8-9h: doručak\n9-13h: radionica (uz pauzu za osvježenje od 11-11:30) obnove suvozidnih terasa koja se sastoji od uvoda i pregleda: kako je podzid bio izgrađen i zašto je tako građen\, skidanja i sortiranja kamena\, segmenta o sigurnosti i sortiranju kamena\, te obnovi oštećenog i nadogradnji suvozida tipa duplice.\n14-15h: Ručak i razgovor\n15-16h: Slobodno vrijeme\n16-19h: Radionica gradnje utilitarnog kamenog mobilijara prostora izletišta (polukružna kamena klupa sa naslonom\, a u stilu gradnje duplice)\n19-20h: Večera\n20-21: Prezentacija Pješački suvozidni putevi Crnogorskog primorja + diskusija\n21h: druženje uz logorsku vatru \nNedjelja\, 8-9h: doručak\n9-11h: Završetak gradnje kamene klupe uz ognjište\, klesanje eksponiranih dijelova.\n11-11:30: Pauza\, osvježenje\n11:30-13h: Predstavljanje izrade jednostruke suvomeđe\, te slaganja volta.\n13-14h: Ručak\, evaluacija i završetak radionice Vratlo 2025.\n15h: Napuštanje objekta \nRadionica suvozidanja “Vratlo 2025” se organizuje uz podršku projekta “Integrisanje biodiverziteta u sektorske politike i prakse i jačanje ključnih tačaka biodiverziteta u Crnoj Gori” koji implementira Ministarstvo ekologije\, održivog razvoja i razvoja sjevera uz podršku Kancelarije Ujedinjenih nacija za razvoj (UNDP) u Crnoj Gori\, a koji je finansiran od strane Globalnog fonda za životnu sredinu (GEF). Kroz projekat je podržana realizacija Javnog poziv za podršku poljoprivrednim praksama usmjerenim ka očuvanju i zaštiti biodiverziteta u saradnji sa Eko fondom\, a čija jedna od mjera je bila očuvanje kamenih terasa-suvozida kao obilježja pejzaža koji imaju značajnu ulogu u spječavanju erozije zemljišta kao i očuvanju biodiverziteta\, a planiran je i razvoj novog poziva za izgradnju suvozida u septembru 2025. godine.
URL:https://www.dragodid.org/event/radionica-suhozidanja-vratlo-2025/
CATEGORIES:suhozidne radionice
END:VEVENT
BEGIN:VEVENT
DTSTART;VALUE=DATE:20250510
DTEND;VALUE=DATE:20250512
DTSTAMP:20260422T071638
CREATED:20250415T075803Z
LAST-MODIFIED:20250506T081453Z
UID:16514-1746835200-1747007999@www.dragodid.org
SUMMARY:Radionica suhozidne gradnje u Barušićima\, Krk
DESCRIPTION:Organizator: DUBoak – Interpretacijski centar maritimne baštine\nVoditelj: Dragodid \n \nDUBoak – Interpretacijski centar maritimne baštine poziva na dvodnevnu radionicu obnove suhozidnog dijela mošune\, kao pripremu za ponovnu izgradnju krovne konstrukcije i pokrivanje sirkovom slamom. \nRadionica će se održati 10. i 11. svibnja 2025. \nU uvodnom dijelu radionice prezentirat će se suhozidna baština našeg krša te osnove gradnje “u suho”. U radnom dijelu\, uz stručno vodstvo\, rekonstruirat će se problematični dijelovi te urušeni otvori zida mošune te napraviti podloga za nadolazeću drvenu građu krovišta. \nRadionica ima kapacitet za 20 sudionika po danu\, moguće je sudjelovanje na oba dana. Za sudionike je osigurana zaštitna oprema i okrjepa. Prijave su obavezne putem OBRASCA ZA PRIJAVE. \nRadionica se održava u sklopu projekta SReST – Društveno odgovorni Slow Food turizam u dunavskoj regiji. Radionica se sufinancira od strane Ministarstva kulture i medija Republike Hrvatske – program Zaštita i očuvanje nematerijalnih kulturnih dobara te od Europske unije – program Interreg Dunavska regija.
URL:https://www.dragodid.org/event/radionica-suhozidne-gradnje-u-barusicima-krk/
CATEGORIES:suhozidne radionice
END:VEVENT
BEGIN:VEVENT
DTSTART;VALUE=DATE:20250511
DTEND;VALUE=DATE:20250512
DTSTAMP:20260422T071638
CREATED:20250429T113041Z
LAST-MODIFIED:20250506T080630Z
UID:16573-1746921600-1747007999@www.dragodid.org
SUMMARY:Radionica obnove suhozida u Ravnom\, BiH
DESCRIPTION:Organizator: Turistička zajednica Općine Ravno\nVoditelj: Dragodid\nLokacija: Ravno\, BiH – lokalitet Oblat\nDatum: nedjelja\, 11. svibnja 2025. \n  \nTuristička zajednica Općine Ravno poziva na edukacijsku radionicu suhozida u Ravnom\, gdje će sudionici učiti tehnike kojima su naši djedovi gradili život na kamenu. \nSuhozidi imaju veliku kulturnu i društvenu vrijednost za Hercegovinu\, a posebno za Ravno\, gdje se lokalni identitet može očuvati samo ako se očuva suhozidna baština. Zajedničkom gradnjom kamene klupe ostavljamo trajan trag u krajoliku i prenosimo znanje budućim naraštajima. \nRadionica je namijenjena svima – mještanima\, volonterima\, ljubiteljima baštine i prirode. Broj sudionika je ograničen\, zato se prijavite na vrijeme. Prethodno iskustvo nije potrebno – samo dobra volja i udobna obuća! \nPrijave i informacije:\n+387 63 817 696\nturizam.ravno@gmail.com \n \n 
URL:https://www.dragodid.org/event/radionica-obnove-suhozida-u-ravnom/
CATEGORIES:suhozidne radionice
END:VEVENT
BEGIN:VEVENT
DTSTART;VALUE=DATE:20250517
DTEND;VALUE=DATE:20250519
DTSTAMP:20260422T071638
CREATED:20250327T120904Z
LAST-MODIFIED:20250513T081731Z
UID:16356-1747440000-1747612799@www.dragodid.org
SUMMARY:Radionica obnove i održavanja mrgara u Dragi Bašćanskoj (Festival Crna ovca)
DESCRIPTION:Organizator Festivala: Općina Baška\, TZ Općine Baška\nOrganizator radionice: Društvo Sinjali – Baška\nVoditelj radionice: Dragodid \n\n\n\n\n\n\n Lokacija: NA STARIH MRGARI – NOVI (na putu prema lokvi Diviška)\n\n\n Datum: 17.5.2025. i 18.5.2025.\n Mjesto i vrijeme polaska: ispred restorana Mošuna (Draga Bašćanska)\, 08.30 h\n PRIJAVA: https://forms.gle/W3js7Aum9QgFnBCT6\n\n\n\n\n\n\n\n\nNa visoravnima iznad bašćanske doline nalaze se najljepši primjeri suhozidnih ovčara u obliku kamenih cvjetova – mrgara. Od davnina su služili pastirima za zajedničko sakupljanje ovaca na prostranim kamenim pašnjacima. Umijeće suhozidne gradnje upisano je na UNESCO reprezentativni popis nematerijalne baštine čovječanstva i zaštićeno je nematerijalno kulturno dobro RH!\n\n\nNaučite principe i primjenu tradicionalne tehnike gradnje suhozida! Besplatnu radionicu organiziraju Društvo Sinjali Baška i TZ Baška\, a vodimo mi. Za volontere je osiguran alat\, zaštitne rukavice i topli obrok nakon završetka.\n\n\n\nTreba ponijeti čvrstu obuću i radnu odjeću\, zaštitu od sunca\, vodu i suhi obrok. I ove godine radionica se odvija kao dio manifestacije Crna ovca. Nakon radionice moći ćete uživati u bogatom glazbenom\, kulturnom\, sportskom i gastro programu Crne ovce.\n\n\n\n INFO: https://www.crnaovca.hr/kul…/radionica-i-obnova-mrgara-r85\n\n\nPridružite nam se u očuvanju stare graditeljske baštine i naučite vještinu slaganja kamena bez vezivnog materijala.\n_______________________\n\n\nDRY STONE WALLING & MRGARI RESTORATION WORKSHOPS\n\n\n\n Location: AT THE OLD MRGARI – NOVI (on the way to the Diviška pond)\n Date: May 17\, 2025\, and May 18\, 2025\n Meeting point and departure time: in front of the Mošuna restaurant (Draga Bašćanska)\, 08:30 am\n SIGN UP: https://forms.gle/W3js7Aum9QgFnBCT6\n\n\n\nOn the plateaus above the Baška Valley\, you can find the most beautiful examples of dry stone sheepfolds shaped like stone flowers – mrgari. Since ancient times\, they have served shepherds for collective gathering of sheep on vast rocky pastures. The art of dry-stone construction has been inscribed on the UNESCO Representative List of the Intangible Heritage of Humanity and is a protected intangible cultural asset of the Republic of Croatia!\n\n\nLearn the principles and application of the traditional dry stone building technique. The workshop is FREE\, and tools\, protective gloves\, and a warm meal after the workshop are provided for volunteers.\n\n\n\nPlease bring sturdy footwear and work clothes\, sun protection\, water\, and a dry snack. This year\, the workshop is part of the Black Sheep event. After the workshop\, you will be able to enjoy a rich musical\, cultural\, sports\, and gastronomic program of Black Sheep. Join us in preserving the old architectural heritage and learn the skill of stacking stones without any binding material.
URL:https://www.dragodid.org/event/radionica-obnove-i-odrzavanja-mrgara-u-dragi-bascanskoj-festival-crna-ovca/
CATEGORIES:suhozidne radionice
END:VEVENT
BEGIN:VEVENT
DTSTART;VALUE=DATE:20250523
DTEND;VALUE=DATE:20250526
DTSTAMP:20260422T071638
CREATED:20250327T120034Z
LAST-MODIFIED:20250327T120034Z
UID:16332-1747958400-1748217599@www.dragodid.org
SUMMARY:Radionica gradnje suhozida na Braču
DESCRIPTION:Organizator i voditelj: Gea Viva \n\n\n\n\n\n\n\n\n\nTijekom radionice od 23. do 25. svibnja 2025. naučit ćete osnove zidanja suhozida uz voditeljicu Sabine Engelhardt\, osnivačicu Gea Vive. Smještena u masliniku na otoku Braču\, Gea Viva je ekološko utočište koje nudi praktično iskustvo održivog načina života i gradnje. \n\n\n\n\n\n\n\n\n\nProgram \nPetak \n\nod 15:00 – Dolazak\n16:30 – Kratki obilazak Gea Vive\n17:00 – 19:30 – Uvod u gradnju suhozida i praktičan rad\n19:30 – Večera\n\nSubota \n\nod 8:00 – Doručak\n9:00 – 12:30 – Gradnja suhozida\n12:30 – Ručak i pauza\n16:30 – 19:30 – Gradnja suhozida\n19:30 – Večera\n\nNedjelja \n\n8:00 – Opcionalni jutarnji sat yoge\n9:00 – Doručak\n10:00 – Slobodno vrijeme u Gea Vivi ili na plaži\nOdlazak između 10:00 i 14:00\, prema želji\n\nKotizacija i smještaj: Radionica je besplatna\, osigurani su hrana i smještaj. Ako želite podržati rad Gea Vive\, donacije su dobrodošle. \nNa raspolaganju za smještaj su: \n\nMala kućica s četiri ležaja (dva bračna kreveta)\nDvije glamping kućice s po dva ležaja\nJoga kupola u stilu spavaonice s kamperskim krevetima\nTakođer\, možete donijeti vlastiti šator\n\nPrijavite se putem linka: Booking form Permaculture Design Course — Gea Viva .- eco island retreat
URL:https://www.dragodid.org/event/radionica-gradnje-suhozida-na-bracu/
CATEGORIES:suhozidne radionice
END:VEVENT
BEGIN:VEVENT
DTSTART;VALUE=DATE:20250531
DTEND;VALUE=DATE:20250609
DTSTAMP:20260422T071638
CREATED:20250203T115127Z
LAST-MODIFIED:20250217T135420Z
UID:16115-1748649600-1749427199@www.dragodid.org
SUMMARY:15. međunarodna baštinska škola Petrebišća 2025.
DESCRIPTION:Najavljujemo i pozivamo! Otvaramo prijave za 15. međunarodnu baštinsku školu – Petrebišća 2025.\, koja će se održati od 31. svibnja do 8. lipnja 2025. u srcu Učke\, u slikovitom ljetnom selištu Petrebišća. Ove godine program se provodi kao aktivnost projekta ECHOES – Enhancing Cultural Heritage Skills Across Europe\, a kao i uvijek\, uz podršku Parka prirode Učka i Općine Mošćenička Draga. \nWe proudly invite students and young professionals to the 15th International Heritage School – Petrebišća 2025\, taking place from May 31 to June 8\, 2025\, in the seasonal dry-stone village of Petrebišća on Učka Mountain. This year’s program is organized as part of the ECHOES – Enhancing Cultural Heritage Skills Across Europe project\, with the continued support of Učka Nature Park and the Municipality of Mošćenička Draga. \n \nOvo je prilika za studente i mlade profesionalce da kroz praktičan rad i zajednički boravak u prirodi steknu vrijedna znanja o tradicionalnim graditeljskim tehnikama.\nThis is an opportunity for students and young professionals to gain valuable knowledge about traditional building techniques through hands-on work and shared outdoor living. \n🔹 Što ćete naučiti? What will participants do?\n– Osnove suhozidne gradnje\n– Oblikovanje kamena ručnim alatom\n– Gradnju suhozida “iz nule”\n– Obnovu kamenih krovova\n– Očuvanje suhozidne i drvene infrastrukture seoskog naselja \n– Learn the basics of dry-stone walling\n– Shape stone using hand tools\n– Build a dry-stone wall from scratch\n– Repair a traditional stone slate roof\n– Restore village houses\, dry-stone structures\, and wooden infrastructure \nOsim radionica\, program uključuje i predavanja o ruralnom graditeljskom naslijeđu\, ekološkoj održivosti i srodnim temama\, kao i vođenu planinarsku turu po Parku prirode Učka.\nIn addition to practical restoration work\, we’ve prepared lectures and discussions on rural architectural heritage\, environmental sustainability\, and related topics. Participants will also enjoy a guided hiking tour through Učka Nature Park. \nŠkolu suorganiziraju i u njoj će sudjelovati predstavnici organizacija Boulouki iz Grčke i Dry Stone Walling Association of Ireland iz Irske\, koji će podijeliti svoja iskustva i znanja o tradicionalnim graditeljskim tehnikama\, ekološkoj održivosti te doprinijeti međunarodnoj razmjeni vještina i pristupa u očuvanju baštine.\nThe School is co-organized by and will also feature representatives from the Boulouki organization from Greece and DSWAI from Ireland\, who will share their experiences and knowledge on traditional building techniques\, ecological sustainability\, and contribute to the international exchange of skills and approaches in heritage preservation. \n📍 Zašto baš Petrebišća? Why Petrebišća?\nSmješteno iznad Mošćeničke Drage\, ovo nekadašnje ljetno naselje pastira danas je važna točka Mitsko-povijesne staze Trebišća-Perun. Od 2010. godine\, u suradnji s Općinom Mošćenička Draga\, organiziramo ljetne studentske radionice kako bismo znanja o tradicijskim tehnikama gradnje prenijeli novim generacijama.\nPerched above Mošćenička Draga\, Petrebišća is a picturesque seasonal village nestled below the main ridge of Učka Mountain. Recognized for its cultural and historical significance\, the site also plays a key role in the History and Mythology Trail Trebišća-Perun\, developed by Učka Nature Park. Since 2010\, Dragodid Association and the Municipality of Mošćenička Draga have been organizing summer workshops here\, passing down traditional building skills to new generations. \n👥 Tko može sudjelovati? Who can apply?\nProgram je namijenjen studentima i mladim profesionalcima\, a prednost imaju oni iz područja graditeljstva\, prostornog planiranja\, arhitekture i baštine. Ostali zainteresirani mogu nas posjetiti na jedan ili dva dana (uz prethodnu najavu). Sudionici moraju biti punoljetni.\nThe School is open to students and young professionals\, with advantage to those working in fields related to architecture\, heritage\, and spatial planning\, as well as enthusiasts interested in traditional building techniques and outdoor teamwork. For others interested\, short one-or two-day visits are possible with prior notice. Participants must be 18+ years old. \n💰 Kotizacija / participation fee: 70\,00 EUR\n🗣 Jezik / working language: engleski / English \n📩 Kako se prijaviti? How to apply?\nPrijave su otvorene do 31. ožujka 2025. (ili do popunjavanja mjesta) na info@dragodid.org\nApplications are open until March 31\, 2025 (or until all spots are filled) at info@dragodid.org \nPrijava treba sadržavati / The application should include:\n✔️ Ime i prezime\, fakultet/organizaciju\, godinu rođenja\, kontakt (mobitel i e-mail) Full name\, university/organization\, year of birth\, contact information (mobile phone and email)\n✔️ Kratku osobnu prezentaciju – tekst\, fotografiju\, crtež ili nešto drugo što vas najbolje predstavlja i pokazuje vašu motivaciju za sudjelovanje. Kreativnost i duhovitost su dobrodošle! A short personal presentation – text\, photo\, drawing\, or anything else that best represents you and shows your motivation for participation. Creativity and humor are welcome! \n🏕️ Kako izgleda kamp? Camp life\n– Smještaj u vlastitim šatorima\, na sjenovitoj livadi. Accommodation is in personal tents on a shaded meadow.\n– Veliki šator služi kao kuhinja i zajednički prostor. A large tent serves as a kitchen and communal space.\n– Ograničena potrošnja vode\, kamperski tuš i poljski WC. Water consumption is limited. Showers are basic (camp-style)\, and the toilet is a simple pit latrine.\n– Tri obroka dnevno (1-2 kuhana)\, vegetarijanci su dobrodošli. Three meals per day are provided (one or two cooked)\, and vegetarians are welcome.\n– GSM signal slab\, struja samo za punjenje baterija. Electricity is only available for charging devices\, and GSM signal is weak.\n– Sudionici pomažu u kuhinji i održavanju kampa. Participants are expected to contribute to camp chores and meal preparation. \n🔜 Vidimo se na planini! See you on the mountain!
URL:https://www.dragodid.org/event/najava-announcing-petrebisca-2025/
CATEGORIES:suhozidne radionice
END:VEVENT
END:VCALENDAR