BEGIN:VCALENDAR
VERSION:2.0
PRODID:-//4 GRADA DRAGODID - ECPv6.15.20//NONSGML v1.0//EN
CALSCALE:GREGORIAN
METHOD:PUBLISH
X-ORIGINAL-URL:https://www.dragodid.org
X-WR-CALDESC:Events for 4 GRADA DRAGODID
REFRESH-INTERVAL;VALUE=DURATION:PT1H
X-Robots-Tag:noindex
X-PUBLISHED-TTL:PT1H
BEGIN:VTIMEZONE
TZID:Europe/Zagreb
BEGIN:DAYLIGHT
TZOFFSETFROM:+0100
TZOFFSETTO:+0200
TZNAME:CEST
DTSTART:20240331T010000
END:DAYLIGHT
BEGIN:STANDARD
TZOFFSETFROM:+0200
TZOFFSETTO:+0100
TZNAME:CET
DTSTART:20241027T010000
END:STANDARD
BEGIN:DAYLIGHT
TZOFFSETFROM:+0100
TZOFFSETTO:+0200
TZNAME:CEST
DTSTART:20250330T010000
END:DAYLIGHT
BEGIN:STANDARD
TZOFFSETFROM:+0200
TZOFFSETTO:+0100
TZNAME:CET
DTSTART:20251026T010000
END:STANDARD
BEGIN:DAYLIGHT
TZOFFSETFROM:+0100
TZOFFSETTO:+0200
TZNAME:CEST
DTSTART:20260329T010000
END:DAYLIGHT
BEGIN:STANDARD
TZOFFSETFROM:+0200
TZOFFSETTO:+0100
TZNAME:CET
DTSTART:20261025T010000
END:STANDARD
END:VTIMEZONE
BEGIN:VEVENT
DTSTART;VALUE=DATE:20250411
DTEND;VALUE=DATE:20250414
DTSTAMP:20260422T124449
CREATED:20250319T123627Z
LAST-MODIFIED:20250327T120942Z
UID:16237-1744329600-1744588799@www.dragodid.org
SUMMARY:Radionica obnove propusnog mosta na Suvoji\, Smokrić
DESCRIPTION:Pozivamo vas na radionicu „suvozida SMOKRIĆ“ koja će se održati od 11. do 13. travnja 2025.\, u organizaciji Udruge Ličana Smokrić\, a koju će voditi naši volonteri. \nPropusni most Ristića na rijeci Suvoji u Smokriću (44\,392172\, 15\,733978) remek djelo je suhe gradnje koje datira od vremena prvih stanovnika na tom prostoru. Propusni most u dva segmenta građen je isključivo tehnikom suhozida od različitih profila i veličina kamenih blokova koji statički čine vrlo čvrstu i otpornu građevinu. Razvojem transportnih sredstava i ostale infrastrukture\, te globalnih promjena u vodnom režimu Suvoje\, most je prepušten zubu vremena pretrpio oštećenja i zahtjeva hitnu intervenciju i zaštitu od daljnjeg urušavanja. \n  \n \n \nOvim putem pozivamo sve zainteresirane koji žele naučiti nešto o obradi kamena i gradnji suhozida\, a i sve one koji žele dati svoj doprinos u očuvanju starine i kulturne baštine našeg kraja da nam se pridruže na ovoj radionici. \nProgram radionice: \n11.4.2025. – okupljanje sudionika\, kratki uvod i upoznavanje sa programom radionice \n12.4.2025. – radovi na mostu \n13.4.2025. – raščlamba radionice i sumiranje rezultata \n  \nMolimo vas da svoje sudjelovanje prijavite porukom ili mailom Udruzi Ličana Smokrić ili Mirku Pavičiću (Juke Slavina) na tel 091 8992 148; Frani Klepiću ( Baćin) 091 4206 193 ili na broj 098 228 974. \nNadamo se da će nas vrijeme poslužiti i da ćemo uspjeti sanirati nekoliko krupnijih oštećenja. \nVidimo se na radionici! \n 
URL:https://www.dragodid.org/event/radionica-suhozida-smokric-popravak-propusnog-mosta-na-suvoji/
CATEGORIES:suhozidne radionice
END:VEVENT
END:VCALENDAR