BEGIN:VCALENDAR
VERSION:2.0
PRODID:-//4 GRADA DRAGODID - ECPv6.15.20//NONSGML v1.0//EN
CALSCALE:GREGORIAN
METHOD:PUBLISH
X-WR-CALNAME:4 GRADA DRAGODID
X-ORIGINAL-URL:https://www.dragodid.org
X-WR-CALDESC:Events for 4 GRADA DRAGODID
REFRESH-INTERVAL;VALUE=DURATION:PT1H
X-Robots-Tag:noindex
X-PUBLISHED-TTL:PT1H
BEGIN:VTIMEZONE
TZID:Europe/Zagreb
BEGIN:DAYLIGHT
TZOFFSETFROM:+0100
TZOFFSETTO:+0200
TZNAME:CEST
DTSTART:20240331T010000
END:DAYLIGHT
BEGIN:STANDARD
TZOFFSETFROM:+0200
TZOFFSETTO:+0100
TZNAME:CET
DTSTART:20241027T010000
END:STANDARD
BEGIN:DAYLIGHT
TZOFFSETFROM:+0100
TZOFFSETTO:+0200
TZNAME:CEST
DTSTART:20250330T010000
END:DAYLIGHT
BEGIN:STANDARD
TZOFFSETFROM:+0200
TZOFFSETTO:+0100
TZNAME:CET
DTSTART:20251026T010000
END:STANDARD
BEGIN:DAYLIGHT
TZOFFSETFROM:+0100
TZOFFSETTO:+0200
TZNAME:CEST
DTSTART:20260329T010000
END:DAYLIGHT
BEGIN:STANDARD
TZOFFSETFROM:+0200
TZOFFSETTO:+0100
TZNAME:CET
DTSTART:20261025T010000
END:STANDARD
END:VTIMEZONE
BEGIN:VEVENT
DTSTART;VALUE=DATE:20250425
DTEND;VALUE=DATE:20250428
DTSTAMP:20260422T105830
CREATED:20250213T100207Z
LAST-MODIFIED:20250411T071327Z
UID:16136-1745539200-1745798399@www.dragodid.org
SUMMARY:Dani suhozida na Hvaru 2025. i 8. Prvenstvo u gradnji suhozida
DESCRIPTION:Od 25. do 27. travnja 2025. održat će se 2. Dani suhozida na Hvaru s 8. Prvenstvom Hrvatske u gradnji suhozida\, u organizaciji udruga Pjover i Dragodid. \nOčekuje se sudjelovanje oko 200 sudionika i posjetitelja\, uključujući majstore suhozidne gradnje\, entuzijaste\, istraživače i predstavnike lokalnih organizacija. \nProgram počinje u petak 25.4. javnom radionicom suhozidne gradnje\, promocijom kataloga i otvaranjem izložbe fotografija Naše gomile\, posvećene suhozidima otoka Hvara i Velog Grablja\, te projekcijom dokumentarnog filma Kamena čipka našeg sela. U program su uključena i djeca\, a za njih je posebno osmišljena igra Suhozidni lego\, koja ih kroz igru upoznaje s osnovama suhozidne gradnje. \nU subotu 26. 4. održat će se 8.Prvenstvo Hrvatske u gradnji suhozida. Natjecatelji će u dva sata izgraditi suhozidne objekte unaprijed definiranih dimenzija. Uspješnost ekipa koje čine do četiri člana ocjenjivat će stručni tročlani žiri. Pobjednička ekipa osvojit će pehar u obliku vapnenice – tradicionalnog objekta za proizvodnju vapna\, repliku izvorne Japjenice sa Roskarsnice koja već 111 godina stoji upravo na mjestu gdje će se prvenstvo i održati. Dan će biti zaključen stručnim vođenjem i upoznavanjem s baštinom grada Hvara te blues koncertom na Venerandi u Hvaru. \nU nedjelju 27.4. za pokojne težake\, graditelje ovih suhozida održat će se sveta misa u župnoj crkvi sv. Kuzme i Damjana u Velom Grablju\, a na samom kraju programa bit će organizirano razgledavanje znamenitosti Velog Grablja. \n \nUdruga Dragodid od 2016. organizirala je šest prvenstava u gradnji\, svako u drugom suhozidnom području Hrvatske. Prvo takvo održano je u Kolanu na Pagu\, u organizaciji udruge Suhozid. \nUdruga Pjover\, u čijoj se organizaciji već 17 godina održava poznati Festivala levande\, 2024. pokrenula je manifestaciju Dani suhozida na Hvaru\, nakon godina rada posvećenih upravo zaštiti i promociji hvarske suhozidne baštine. I ove godine manifestacija se održava u suradnji i uz pokroviteljstvo Ministarstva kulture i medija\, Grada Hvara i Turističke zajednice Grada Hvara. \nEtno-eko selo Velo Grablje na otoku Hvaru jedno je od najvećih i najbolje očuvanih primjera suhozidne gradnje\, a udruga za zaštitu i revitalizaciju Veloga Grablja – Pjover\, kao partner udruzi Dragodid nositeljica je UNESCO-ve povelje za ostvarenje zaštite suhozida kao kulturno-materijalnog dobra RH i upisa umijeća suhozidne gradnje na listu nematerijalne baštine svijeta 2018. godine.
URL:https://www.dragodid.org/event/najava-dani-suhozida-na-hvaru-2025-i-8-prvenstvo-u-gradnji-suhozida/
CATEGORIES:suhozidne radionice
END:VEVENT
END:VCALENDAR