BEGIN:VCALENDAR
VERSION:2.0
PRODID:-//4 GRADA DRAGODID - ECPv6.15.20//NONSGML v1.0//EN
CALSCALE:GREGORIAN
METHOD:PUBLISH
X-ORIGINAL-URL:https://www.dragodid.org
X-WR-CALDESC:Events for 4 GRADA DRAGODID
REFRESH-INTERVAL;VALUE=DURATION:PT1H
X-Robots-Tag:noindex
X-PUBLISHED-TTL:PT1H
BEGIN:VTIMEZONE
TZID:Europe/Zagreb
BEGIN:DAYLIGHT
TZOFFSETFROM:+0100
TZOFFSETTO:+0200
TZNAME:CEST
DTSTART:20240331T010000
END:DAYLIGHT
BEGIN:STANDARD
TZOFFSETFROM:+0200
TZOFFSETTO:+0100
TZNAME:CET
DTSTART:20241027T010000
END:STANDARD
BEGIN:DAYLIGHT
TZOFFSETFROM:+0100
TZOFFSETTO:+0200
TZNAME:CEST
DTSTART:20250330T010000
END:DAYLIGHT
BEGIN:STANDARD
TZOFFSETFROM:+0200
TZOFFSETTO:+0100
TZNAME:CET
DTSTART:20251026T010000
END:STANDARD
BEGIN:DAYLIGHT
TZOFFSETFROM:+0100
TZOFFSETTO:+0200
TZNAME:CEST
DTSTART:20260329T010000
END:DAYLIGHT
BEGIN:STANDARD
TZOFFSETFROM:+0200
TZOFFSETTO:+0100
TZNAME:CET
DTSTART:20261025T010000
END:STANDARD
END:VTIMEZONE
BEGIN:VEVENT
DTSTART;VALUE=DATE:20250509
DTEND;VALUE=DATE:20250512
DTSTAMP:20260422T091626
CREATED:20250506T080524Z
LAST-MODIFIED:20250506T080607Z
UID:16585-1746748800-1747007999@www.dragodid.org
SUMMARY:Radionica suhozidanja „Vratlo 2025“\, Crna Gora
DESCRIPTION:Organizator: Planinarski klub Subra\nLokacija: kod planinarskog doma „Za Vratlom“ (1160 m)\, Park prirode Orjen\, Crna Gora\nDatum: 9. – 11. svibnja 2025. \n \nPrenosimo poziv organizatora: \nGradnja suvozida ne samo da pruža veliko fizičko zadovoljstvo\, već također podstiče pažnju i vrijeme za zdravo razmišljanje. Suvozidi su važan dio našeg naslijeđa. Oni također pružaju utočište za sitne divlje životinje i formiraju čvrste granice za stoku. Nažalost\, mnogi naši suvozidi propadaju jer se gube tradicionalne vještine potrebne za njihovo održavanje. Pridružite nam se na ovom događaju kako biste saznali više o ovom drevnom zanatu i pokušali dodati “svoj kamen“! \nNaučite principe i primjenu tradicionalnih načina gradnje sa kamenom u tehnici nasuvo\, pod stručnim vodstvom mentora dipl. arheologa Željka Starčevića (PK Subra\, odnosno Park prirode Orjen-zaštita i valorizacija kulturne baštine). Ako želite da počnete učiti o tome kako se grade suvozidi\, ili želite provjeriti svoje razumijevanje uz stručno vodstvo\, pridružite nam se na radionici! Možda planirate da obnavljate suvomeđu kod stare kuće na selu\, uredite vrt ukrasnim suvozidom ili da sakupite osnovno znanje prije nego unajmite nekog drugog za izgradnju-obnovu suvozida? Možda razmišljate o dodavanju suvozida u usluge koje već pružate kao izvođač radova na pejzažnom uređenju? Bez obzira na vašu motivaciju i iskustvo\, ova uvodna radionica je polazna tačka za vas. \n9\, 10. i 11. maja (petak popodne\, subota i nedjelja)\, kod planinarskog doma „Za Vratlom“ (1160 m)\, u Parku prirode Orjen\, organizuje se edukativna radionica suvozidne gradnje. \n– Prijave za radionicu su putem viber-poruke na broj 069360803\, koja treba da sadrži ime i prezime\, godište i eventualno prethodno iskustvo\, te motiv za učestvovanje (kratko)\n– Na isti gore navedeni broj se takođe mogu dobiti i dodatne informacije\, a tu je i facebook stranica organizatora\, te instagram\n– Prijavljivanje je moguće do četvrtka\, 8. maja\, do 20h\n– Učesnici moraju imati čvrstu obuću i radnu odjeću\, a na terenu će im biti obezbeđene rukavice i ostala potrebna oprema\, odnosno alat\n– Učesnici moraju imati osnovno iskustvo boravka/rada u prirodi\n– Minimalni broj prijavljenih: 5\n– Maksimalni broj prijavljenih: 15\n– Radionica je pogodna za odrasle (18+)\n– Jezik mentora: jezici ex YU prostora\n– Učešće je na sopstvenu odgovornost\n– Troškovi transporta opreme ka domu\, smještaja i ishrane su pokriveni zahvaljujući podršci Ministarstva ekologije\, održivog razvoja i razvoja sjevera kroz projekat “Integrisanje biodiverziteta u sektorske politike i prakse i jačanje zaštite ključnih tačaka biodiverziteta u Crnoj Gori“\, finansiranog od strane Globalnog fonda za životnu sredinu (GEF). \nPotreban nivo vještina: Nije neophodno prethodno iskustvo u gradnji sa kamenom (a dobro došlo je)\nŠta trebam ponijeti? Za radionicu ipak preporučujemo dobri stari\, notes i olovku\, a za boravak u domu se pripremite na promjenljivo orjensko vrijeme\, za sunce i oblake\, naravno\, uz ruksak sa vrećom za spavanje\, rezervnom odjećom i obućom\, sredstvima za higijenu\, grickalicama po izboru\, telefonom sa punjačem…\nDobro je znati: Mada je gradnja suvozida pristupačna svakoj umjereno sposobnoj i aktivnoj osobi\, to je ipak prvenstveno fizički posao. Molimo vas da dođite obučeni u odjeću za koja vam ne smeta da se zaprlja. \nŠta možete očekivati: Temperaturu u prosjeku nižu za 8 stepeni u odnosu na priobalje\, široke planinske vidike\, vrhove\, šume i livade\, miris poljskog cvijeća i naravno-obilje kamena – dobrodošli na Orjen! \nŠta ćete naučiti: Priprema „gradilišta“\, odabir kamena\, vrste kamena\, obnova podzida\, način slaganja na preklop\, primjena škalje za popunu\, principi slaganja duplice i jednostruke međe\, osnove klesanja\, principi slaganja lažnog i pravog volta i naravno\, dosta zanimljive teorije\, kompilaciju sastavljenu od geologije i ekologije\, preko arheologije i etnologije\, do poljoprivrede\, stočarstva i turizma. \nO organizatoru radionice i mentoru: Planinarski klub „Subra“\, odnosno\, njena Sekcija za markaciju i vodičku službu\, između ostalog se bavi održavanjem\, pa i gradnjom\, kamenih pješačkih puteva\, važnog segmenta današnjih planinskih staza\, ali i organizacijom radionica gradnje i Prvenstva Crne Gore u gradnji suvomeđe (u saradnji sa Parkom prirode Orjen).\nDipl. arheolog Željko Starčević ima desetogodišnje iskustvo u organizaciji i izvođenju radionica suvozidne gradnje. Učesnik konferencije u Budvi „Putevima tradicije-studija suhozida na Jegorovom putu“\, te demonstrator u terenskom radu obnove dijela Jegorovog puta u istoj prilici. Učesnik Međunarodnog suvozidnog kongresa u Cavtatu 2021. godine. Učesnik konferencije u Tivtu „Nematerijalno kulturno nasljeđe i održivi turizam“ 2023. godine. Učesnik i predavač u Kotoru i Špiljarima na okruglom stolu i pokaznoj radionici „Gradnja u kamenu u tehnici na suvo\, organizovane u okviru Dana evropske baštine 2018. Pokretač i glavni realizator dvogodišnje volonterske izgadnje pješačih serpentina preko prevoja Malo vratlo (Orjen)\, jedinstvenog pješačkog i panoramskog puta\, rađenog isključivo u tehnici suvomeđe.Inicijator i osnivač Prvenstva Crne Gore u gradnji suvomeđe\, sportsko-kulturološkog događaja koji se svake godine odvija u hercegnovskom zaleđu. \nSATNICA I PROGRAM \nU petak u 17h je okupljanje kod bivšeg motela Borići\, u zaleđu hercegnovskog sela Kameno. Ka pl. domu (3 km) vodi loš makadamski put\, prihvatljiv za terenska vozila\, a alternativa je jednosatno pješačenje\, odnosno prevoz terenskim vozilom organizatora do podnožja prevoja Vratlo\, odakle se nastavlja pješke a vozilo iznosi učesničku opremu.\n18h: Dolazak do pl. doma „Za Vratlom“\, smještaj učesnika-volontera\n19-20h: Upoznavanje\, uvodna riječ\, te prezentacija na temu suvozidne gradnje kod nas i u svijetu\, istorijat\, današnje stanje\, perspektive…\n21h: Večera\, druženje uz logorsku vatru \nSubota\, 8-9h: doručak\n9-13h: radionica (uz pauzu za osvježenje od 11-11:30) obnove suvozidnih terasa koja se sastoji od uvoda i pregleda: kako je podzid bio izgrađen i zašto je tako građen\, skidanja i sortiranja kamena\, segmenta o sigurnosti i sortiranju kamena\, te obnovi oštećenog i nadogradnji suvozida tipa duplice.\n14-15h: Ručak i razgovor\n15-16h: Slobodno vrijeme\n16-19h: Radionica gradnje utilitarnog kamenog mobilijara prostora izletišta (polukružna kamena klupa sa naslonom\, a u stilu gradnje duplice)\n19-20h: Večera\n20-21: Prezentacija Pješački suvozidni putevi Crnogorskog primorja + diskusija\n21h: druženje uz logorsku vatru \nNedjelja\, 8-9h: doručak\n9-11h: Završetak gradnje kamene klupe uz ognjište\, klesanje eksponiranih dijelova.\n11-11:30: Pauza\, osvježenje\n11:30-13h: Predstavljanje izrade jednostruke suvomeđe\, te slaganja volta.\n13-14h: Ručak\, evaluacija i završetak radionice Vratlo 2025.\n15h: Napuštanje objekta \nRadionica suvozidanja “Vratlo 2025” se organizuje uz podršku projekta “Integrisanje biodiverziteta u sektorske politike i prakse i jačanje ključnih tačaka biodiverziteta u Crnoj Gori” koji implementira Ministarstvo ekologije\, održivog razvoja i razvoja sjevera uz podršku Kancelarije Ujedinjenih nacija za razvoj (UNDP) u Crnoj Gori\, a koji je finansiran od strane Globalnog fonda za životnu sredinu (GEF). Kroz projekat je podržana realizacija Javnog poziv za podršku poljoprivrednim praksama usmjerenim ka očuvanju i zaštiti biodiverziteta u saradnji sa Eko fondom\, a čija jedna od mjera je bila očuvanje kamenih terasa-suvozida kao obilježja pejzaža koji imaju značajnu ulogu u spječavanju erozije zemljišta kao i očuvanju biodiverziteta\, a planiran je i razvoj novog poziva za izgradnju suvozida u septembru 2025. godine.
URL:https://www.dragodid.org/event/radionica-suhozidanja-vratlo-2025/
CATEGORIES:suhozidne radionice
END:VEVENT
END:VCALENDAR