BEGIN:VCALENDAR
VERSION:2.0
PRODID:-//4 GRADA DRAGODID - ECPv6.15.20//NONSGML v1.0//EN
CALSCALE:GREGORIAN
METHOD:PUBLISH
X-WR-CALNAME:4 GRADA DRAGODID
X-ORIGINAL-URL:https://www.dragodid.org
X-WR-CALDESC:Events for 4 GRADA DRAGODID
REFRESH-INTERVAL;VALUE=DURATION:PT1H
X-Robots-Tag:noindex
X-PUBLISHED-TTL:PT1H
BEGIN:VTIMEZONE
TZID:Europe/Zagreb
BEGIN:DAYLIGHT
TZOFFSETFROM:+0100
TZOFFSETTO:+0200
TZNAME:CEST
DTSTART:20240331T010000
END:DAYLIGHT
BEGIN:STANDARD
TZOFFSETFROM:+0200
TZOFFSETTO:+0100
TZNAME:CET
DTSTART:20241027T010000
END:STANDARD
BEGIN:DAYLIGHT
TZOFFSETFROM:+0100
TZOFFSETTO:+0200
TZNAME:CEST
DTSTART:20250330T010000
END:DAYLIGHT
BEGIN:STANDARD
TZOFFSETFROM:+0200
TZOFFSETTO:+0100
TZNAME:CET
DTSTART:20251026T010000
END:STANDARD
BEGIN:DAYLIGHT
TZOFFSETFROM:+0100
TZOFFSETTO:+0200
TZNAME:CEST
DTSTART:20260329T010000
END:DAYLIGHT
BEGIN:STANDARD
TZOFFSETFROM:+0200
TZOFFSETTO:+0100
TZNAME:CET
DTSTART:20261025T010000
END:STANDARD
END:VTIMEZONE
BEGIN:VEVENT
DTSTART;VALUE=DATE:20250628
DTEND;VALUE=DATE:20250629
DTSTAMP:20260422T072325
CREATED:20250626T071339Z
LAST-MODIFIED:20250626T071339Z
UID:16754-1751068800-1751155199@www.dragodid.org
SUMMARY:Radionica obnove suhozida u Brtonigli
DESCRIPTION:Organizator: Turistička zajednica Općine Brtonigla\nVoditelj: Udruga Babin pas iz Rovinjskog Sela\nLokacija: park Kulturnog centra Aleksandar Rukavina\, Brtonigla\nDatum: subota\, 28. lipnja 2025. \nTZ Brtonigla vas poziva na radionicu obnove suhozida – vještinu gradnje bez vezivnog materijala\, koja je stoljećima oblikovala istarski krajolik i danas je prepoznata kao dio UNESCO-ove nematerijalne kulturne baštine. \nRadionica traje 2–3 sata. Sudjelovanje je besplatno\, ponesite udobnu odjeću i obuću. Nakon radionice slijedi opušteno druženje uz zakusku i glazbu. \nRadionica je dio programa Kiparske škole KIPAR\, a u 19 sati na programu je predstavljanje skulptura nastalih tijekom škole\, kao i najava ljetnog programa Kulturnog centra\, koji se održava svakog četvrtka u Brtonigli. Prijave na radionicu zaprimaju se putem inboxa Facebook stranice Visit Brtonigla Verteneglio.
URL:https://www.dragodid.org/event/radionica-obnove-suhozida-u-brtonigli/
CATEGORIES:suhozidne radionice
ATTACH;FMTTYPE=image/jpeg:https://www.dragodid.org/wp-content/uploads/2025/06/512667565_1307591528035932_4202587455677886874_n.jpg
END:VEVENT
END:VCALENDAR