BEGIN:VCALENDAR
VERSION:2.0
PRODID:-//4 GRADA DRAGODID - ECPv6.15.20//NONSGML v1.0//EN
CALSCALE:GREGORIAN
METHOD:PUBLISH
X-ORIGINAL-URL:https://www.dragodid.org
X-WR-CALDESC:Events for 4 GRADA DRAGODID
REFRESH-INTERVAL;VALUE=DURATION:PT1H
X-Robots-Tag:noindex
X-PUBLISHED-TTL:PT1H
BEGIN:VTIMEZONE
TZID:Europe/Zagreb
BEGIN:DAYLIGHT
TZOFFSETFROM:+0100
TZOFFSETTO:+0200
TZNAME:CEST
DTSTART:20240331T010000
END:DAYLIGHT
BEGIN:STANDARD
TZOFFSETFROM:+0200
TZOFFSETTO:+0100
TZNAME:CET
DTSTART:20241027T010000
END:STANDARD
BEGIN:DAYLIGHT
TZOFFSETFROM:+0100
TZOFFSETTO:+0200
TZNAME:CEST
DTSTART:20250330T010000
END:DAYLIGHT
BEGIN:STANDARD
TZOFFSETFROM:+0200
TZOFFSETTO:+0100
TZNAME:CET
DTSTART:20251026T010000
END:STANDARD
BEGIN:DAYLIGHT
TZOFFSETFROM:+0100
TZOFFSETTO:+0200
TZNAME:CEST
DTSTART:20260329T010000
END:DAYLIGHT
BEGIN:STANDARD
TZOFFSETFROM:+0200
TZOFFSETTO:+0100
TZNAME:CET
DTSTART:20261025T010000
END:STANDARD
END:VTIMEZONE
BEGIN:VEVENT
DTSTART;VALUE=DATE:20251011
DTEND;VALUE=DATE:20251013
DTSTAMP:20260422T015213
CREATED:20251006T104647Z
LAST-MODIFIED:20251006T104647Z
UID:16961-1760140800-1760313599@www.dragodid.org
SUMMARY:Suhozidna radionica uređenja puta "Okol Dolčine"\, Praputnjak
DESCRIPTION:Organizator: Udruga Praputnjak – kulturni krajolik\nMjesto: Praputnjak\nVrijeme: 11.-12.⁠ ⁠listopada 2025. \n📧Prijave i dodatne informacije: kkpk.praputnjak@gmail.com\, 0958189627 – Ivona Miloš \nOtvoren je poziv za sudjelovanje na radionici obnove puta oko kraške doline Dolčine\, uz koji se nalaze ruševine starih naselja Praputnjaka. Radionice će voditi lokalni meštar\, Zrinko Mičetić – Vjeko\, uz pomoć ekipe iz Dragodida. Uz neizostavno izučavanje tehnike zidanja u suho\, sudionici će moći bolje upoznati priču o nastanku Bakarskih prezida\, upoznajući se sa zajednicom koja je iste izgradila. \nOrganizatori mole zainteresirane za cjelodnevni angažman u radionici da se prijave\, dok sve koji bi htjeli samo istražiti navedeni put\, pozivaju da ih svakako posjete tijekom radionice. \nIzvor
URL:https://www.dragodid.org/event/suhozidna-radionica-uredenja-puta-okol-dolcine-praputnjak/
CATEGORIES:suhozidne radionice
ATTACH;FMTTYPE=image/jpeg:https://www.dragodid.org/wp-content/uploads/2025/10/558848078_1211564457679501_4186386749732936200_n.jpg
END:VEVENT
END:VCALENDAR