BEGIN:VCALENDAR
VERSION:2.0
PRODID:-//4 GRADA DRAGODID - ECPv6.15.20//NONSGML v1.0//EN
CALSCALE:GREGORIAN
METHOD:PUBLISH
X-WR-CALNAME:4 GRADA DRAGODID
X-ORIGINAL-URL:https://www.dragodid.org
X-WR-CALDESC:Events for 4 GRADA DRAGODID
REFRESH-INTERVAL;VALUE=DURATION:PT1H
X-Robots-Tag:noindex
X-PUBLISHED-TTL:PT1H
BEGIN:VTIMEZONE
TZID:Europe/Zagreb
BEGIN:DAYLIGHT
TZOFFSETFROM:+0100
TZOFFSETTO:+0200
TZNAME:CEST
DTSTART:20250330T010000
END:DAYLIGHT
BEGIN:STANDARD
TZOFFSETFROM:+0200
TZOFFSETTO:+0100
TZNAME:CET
DTSTART:20251026T010000
END:STANDARD
BEGIN:DAYLIGHT
TZOFFSETFROM:+0100
TZOFFSETTO:+0200
TZNAME:CEST
DTSTART:20260329T010000
END:DAYLIGHT
BEGIN:STANDARD
TZOFFSETFROM:+0200
TZOFFSETTO:+0100
TZNAME:CET
DTSTART:20261025T010000
END:STANDARD
BEGIN:DAYLIGHT
TZOFFSETFROM:+0100
TZOFFSETTO:+0200
TZNAME:CEST
DTSTART:20270328T010000
END:DAYLIGHT
BEGIN:STANDARD
TZOFFSETFROM:+0200
TZOFFSETTO:+0100
TZNAME:CET
DTSTART:20271031T010000
END:STANDARD
END:VTIMEZONE
BEGIN:VEVENT
DTSTART;VALUE=DATE:20260306
DTEND;VALUE=DATE:20260309
DTSTAMP:20260423T001057
CREATED:20260216T102144Z
LAST-MODIFIED:20260216T104513Z
UID:17157-1772755200-1773014399@www.dragodid.org
SUMMARY:Radionica suhozidanja i obnove lokve Gnjilovače
DESCRIPTION:Organizatori: udruga Tatavaka i Turistička zajednica Zlarina\nVoditelji: udruge Tatavaka i Dragodid\nMjesto: lokva Gnjilovača\nVrijeme: 6.-8. ožujka 2026. \n Okupljanje za početak radionice: petak\, 6.3. u 10 sati\, kod Kapelice Sv. Križa (kod Fingaca)\, Zlarin \n2. veljače udruga Tatavaka sa Zlarina obilježila je Svjetski dan vlažnih staništa – dan kada se svijet podsjeća na važnost ovih jedinstvenih ekosustava. A lokva Gnjilovača nije samo kameni spomenik prošlosti\, već i živo vlažno stanište!🦎 Stoljećima je služila kao izvor vode za ljude i životinje. Kada zadržava vodu\, postaje dom vodenog bilja\, izvor hrane za ptice\, mjesto gdje noću dolaze šišmiši\, mali ekosustav u suhom mediteranskom krajoliku koji pomaže održati raznolikost života na otoku. \nRadionica po radionica\, kamen po kamen nastavljaju njenu obnovu – vraćamo joj ne samo stari oblik\, već mogućnost da ponovno postane ono što je bila: živo mjesto\, most između prošlosti i budućnosti. \nRukavice\, alat\, marenda i piće osigurani.\n\nIzvor: Tatavaka
URL:https://www.dragodid.org/event/radionica-suhozidanja-i-obnove-lokve-gnjilovace-2/
CATEGORIES:suhozidne radionice
END:VEVENT
BEGIN:VEVENT
DTSTART;VALUE=DATE:20260325
DTEND;VALUE=DATE:20260329
DTSTAMP:20260423T001057
CREATED:20260317T124516Z
LAST-MODIFIED:20260317T124530Z
UID:17178-1774396800-1774742399@www.dragodid.org
SUMMARY:Radionice suhozidne gradnje\, Kamenjak
DESCRIPTION:Organizator: Javna ustanova Kamenjak\nVrijeme: 25.-28. ožujka\, od 9 do 17 sati\nMjesto: parking Njive (Donji Kamenjak)\nVoditelj: udruga Dragodid \nJavna ustanova Kamenjak poziva sve zainteresirane da im se pridruže i ove godine na besplatnim radionicama suhozidne gradnje u suradnji s udrugom Dragodid. Ne zaboravite pozvati i svoje prijatelje! 😊
URL:https://www.dragodid.org/event/17178/
CATEGORIES:suhozidne radionice
END:VEVENT
BEGIN:VEVENT
DTSTART;VALUE=DATE:20260417
DTEND;VALUE=DATE:20260420
DTSTAMP:20260423T001057
CREATED:20260227T124413Z
LAST-MODIFIED:20260227T124413Z
UID:17170-1776384000-1776643199@www.dragodid.org
SUMMARY:Dani suhozida na Hvaru
DESCRIPTION:Za najave pratiti udrugu Pjover na Facebooku. \n \n 
URL:https://www.dragodid.org/event/dani-suhozida-na-hvaru-2/
CATEGORIES:suhozidne radionice
END:VEVENT
BEGIN:VEVENT
DTSTART;VALUE=DATE:20260419
DTEND;VALUE=DATE:20260420
DTSTAMP:20260423T001057
CREATED:20260331T105449Z
LAST-MODIFIED:20260331T105449Z
UID:17200-1776556800-1776643199@www.dragodid.org
SUMMARY:Radionica Kamik & Gromači 8\, Lovran
DESCRIPTION:Organizator: Udruga Brsečki česan\nVrijeme: nedjelja\, 19.4.\nLokacija: Lovran\, Tuliševica\, Janjetići 27. \nUdruga Brsečki česan poziva sve zainteresirane na osmo izdanje radionice Kamik & Gromači u nedjelju\, 19.4. Nužno je najaviti se na 0918852422 ili brseckicesan@gmail.com\nOkrjepa i rukavice su osigurane. Treba doći u radnoj odjeći i cipelama. \nFacebook događaj
URL:https://www.dragodid.org/event/radionica-kamik-gromaci-8-lovran/
CATEGORIES:suhozidne radionice
END:VEVENT
BEGIN:VEVENT
DTSTART;VALUE=DATE:20260424
DTEND;VALUE=DATE:20260426
DTSTAMP:20260423T001057
CREATED:20251229T133848Z
LAST-MODIFIED:20260319T132340Z
UID:17093-1776988800-1777161599@www.dragodid.org
SUMMARY:Suhozidni susret Zlarin 2026. s 9. Prvenstvom Hrvatske u gradnji suhozida
DESCRIPTION:SUHOZIDNI SUSRET I 9. PRVENSTVO HRVATSKE U GRADNJI SUHOZIDA  \n24.-25.4.2026.  ZLARIN \nOrganizatori: Udruge Tatavaka i 4 GRADA DRAGODID\nDomaćin: Turistička zajednica Zlarin\nDonatori i partneri:  Ministarstvo kulture i medija\, Hrvatski centar koralja Zlarin\, DVD Zlarin\, OPG Brne\, HPK Sv. Mihovil \nSuhozidni susret i Prvenstvo u gradnji suhozida tradicionalno okupljaju zaljubljenike u suhozidnu baštinu\, lokalne zajednice\, stručnjake i volontere. Program povezuje edukaciju\, natjecanje\, terenski rad i druženje\, ove godine s posebnim naglaskom na suhozidnu baštinu otoka Zlarina i važnost vode. \nPRELIMINARNI PROGRAM \nPetak\, 24. travnja 2026. \n16:00 Okupljanje u Hrvatskom centru koralja Zlarin i zajednička šetnja do lokve Lokvice\, mjesta otvaranja Susreta \n16:30 Predavanje kod lokve Lokvice: Tea Truta (Tatavaka) – Voda vodi\nPredavanje je usmjereno na revalorizaciju vodnih sustava i sliva otoka Zlarina. Predstavit će kako udruga Tatavaka potiče angažman lokalne zajednice kroz razmjenu znanja stanovnika\, studenata\, stručnjaka i organizacija civilnog društva o održivim modelima korištenja vode te zašto su ovakvi sustavi važni za budućnost otoka. \n16:45 Šetnja do obližnje bunje i predavanje: Roko Buneta Čikutović\, (Tatavaka) – Mapiranje bunja otoka Zlarina\nRezultati terenskog i GIS mapiranja šezdesetak tradicionalnih suhozidnih skloništa – bunja i njihove važnosti za kulturni krajolik otoka. \n17:15 Otvorenje izložbe: Sanja M. Vukman – SANJE ARHIPELAGA / poetska intervencija u zlarinskoj bunji\nRad je inspiriran trima ženama – neznanom stanovnicom Borovice\, Esterom Mazzoleni i Vesnom Parun. Kamen i pismo grade novu mrežu značenja\, omogućujući posjetiteljima otkrivanje skrivene poruke u bunji. \n18:30 Projekcija dokumentarnih filmova (kuća Šare): \nVoda (red. Ante Viculin Pirija) – Projekcija dokumentarnog filma iz 1975. godine o značenju vode za život na Zlarinu i o povijesnoj gradnji vodovoda. \nPetrebišća 2025: Suhozidna gradnja i razmjena iskustava (red. Ira & John):  – Film prikazuje devet dana zajedničkog rada\, učenja\, zidanja i života u kampu na padinama Učke tijekom 15. Baštinske ljetne škole koju organizira udruga Dragodid. \n19:00 Zajednička večera \n  \nSubota\, 25. travnja 2026. \n10:00 Okupljanje kod Crkve Marijinog Uznesenja Zlarin\, registracija prijavljenih ekipa i priprema za Prvenstvo \n11:00 Početak 9. Prvenstva Hrvatske u gradnji suhozida \n11:00 Početak usporednih suhozidnih radionica pod vodstvom udruge Dragodid:\n– radionica za odrasle\n– radionica za djecu \n11:00  – 13:00 Čišćenje staze i markacistička akcija HPK sv. Mihovil\, Šibenik \n13:00 Završetak Prvenstva i radionica \n13:30 Ručak na lokaciji \n14:30 Proglašenje pobjednika i dodjela nagrada \n16:00 Posjet Hrvatskom centru koralja Zlarin \nVečer Druženje
URL:https://www.dragodid.org/event/suhozidni-susret-zlarin-2026-s-9-prvenstvom-hrvatske-u-gradnji-suhozida/
CATEGORIES:suhozidne radionice
END:VEVENT
BEGIN:VEVENT
DTSTART;VALUE=DATE:20260508
DTEND;VALUE=DATE:20260511
DTSTAMP:20260423T001057
CREATED:20260331T110629Z
LAST-MODIFIED:20260331T110629Z
UID:17203-1778198400-1778457599@www.dragodid.org
SUMMARY:Radionica obnove suhozida u Milni\, Brač
DESCRIPTION:Organizator: Udruga Gea Viva\nVrijeme: 8.-10. svibnja 2026.\nLokacija: Milna\, Brač \nUdruga Gea Viva poziva na radionicu obnove suhozida u Milni na Braču\, a svi detalji su ovdje. Predložena donacija za radionice je 60\,00 EUR što uključuje obroke i jednomjesečnu članarinu u Gea Vivi. \nProgram \nPetak\nod 15.00 h dolazak\n16.30 h kratki vođeni obilazak Gea Vive\n17.00 – 19.00 h uvod u suhozidnu gradnju i praktični rad\n19.30 h večera \nSubota\nod 8.00 h doručak\n9.00 – 12.30 h suhozidna gradnja\n12.30 h ručak i odmor\n16.30 – 19.00 h suhozidna gradnja\n19.30 h večera \nNedjelja\n8.00 h opcionalna jutarnja joga\n9.00 h doručak\nOdlazak između 10.00 i 14.00 h prema želji sudionika.
URL:https://www.dragodid.org/event/radionica-obnove-suhozida-u-milni-brac/
CATEGORIES:suhozidne radionice
END:VEVENT
END:VCALENDAR