BEGIN:VCALENDAR
VERSION:2.0
PRODID:-//4 GRADA DRAGODID - ECPv6.15.20//NONSGML v1.0//EN
CALSCALE:GREGORIAN
METHOD:PUBLISH
X-WR-CALNAME:4 GRADA DRAGODID
X-ORIGINAL-URL:https://www.dragodid.org
X-WR-CALDESC:Events for 4 GRADA DRAGODID
REFRESH-INTERVAL;VALUE=DURATION:PT1H
X-Robots-Tag:noindex
X-PUBLISHED-TTL:PT1H
BEGIN:VTIMEZONE
TZID:Europe/Zagreb
BEGIN:DAYLIGHT
TZOFFSETFROM:+0100
TZOFFSETTO:+0200
TZNAME:CEST
DTSTART:20230326T010000
END:DAYLIGHT
BEGIN:STANDARD
TZOFFSETFROM:+0200
TZOFFSETTO:+0100
TZNAME:CET
DTSTART:20231029T010000
END:STANDARD
BEGIN:DAYLIGHT
TZOFFSETFROM:+0100
TZOFFSETTO:+0200
TZNAME:CEST
DTSTART:20240331T010000
END:DAYLIGHT
BEGIN:STANDARD
TZOFFSETFROM:+0200
TZOFFSETTO:+0100
TZNAME:CET
DTSTART:20241027T010000
END:STANDARD
BEGIN:DAYLIGHT
TZOFFSETFROM:+0100
TZOFFSETTO:+0200
TZNAME:CEST
DTSTART:20250330T010000
END:DAYLIGHT
BEGIN:STANDARD
TZOFFSETFROM:+0200
TZOFFSETTO:+0100
TZNAME:CET
DTSTART:20251026T010000
END:STANDARD
END:VTIMEZONE
BEGIN:VEVENT
DTSTART;VALUE=DATE:20240224
DTEND;VALUE=DATE:20240226
DTSTAMP:20260421T192241
CREATED:20240212T145228Z
LAST-MODIFIED:20240213T112423Z
UID:14677-1708732800-1708905599@www.dragodid.org
SUMMARY:Radionica suhozida | Starigrad Paklenica
DESCRIPTION:Organizator: Hrvatska gorska služba spašavanja\nVoditelj: DRAGODID \nPrijave za sudjelovanje su zatvorene zbog popunjenih kapaciteta.\nViše: https://www.facebook.com/photo?fbid=10160691120244071&set=a.10150227080749071
URL:https://www.dragodid.org/event/radionica-suhozida-starigrad-paklenica/
CATEGORIES:suhozidne radionice
END:VEVENT
END:VCALENDAR