BEGIN:VCALENDAR
VERSION:2.0
PRODID:-//4 GRADA DRAGODID - ECPv6.15.20//NONSGML v1.0//EN
CALSCALE:GREGORIAN
METHOD:PUBLISH
X-ORIGINAL-URL:https://www.dragodid.org
X-WR-CALDESC:Events for 4 GRADA DRAGODID
REFRESH-INTERVAL;VALUE=DURATION:PT1H
X-Robots-Tag:noindex
X-PUBLISHED-TTL:PT1H
BEGIN:VTIMEZONE
TZID:Europe/Zagreb
BEGIN:DAYLIGHT
TZOFFSETFROM:+0100
TZOFFSETTO:+0200
TZNAME:CEST
DTSTART:20230326T010000
END:DAYLIGHT
BEGIN:STANDARD
TZOFFSETFROM:+0200
TZOFFSETTO:+0100
TZNAME:CET
DTSTART:20231029T010000
END:STANDARD
BEGIN:DAYLIGHT
TZOFFSETFROM:+0100
TZOFFSETTO:+0200
TZNAME:CEST
DTSTART:20240331T010000
END:DAYLIGHT
BEGIN:STANDARD
TZOFFSETFROM:+0200
TZOFFSETTO:+0100
TZNAME:CET
DTSTART:20241027T010000
END:STANDARD
BEGIN:DAYLIGHT
TZOFFSETFROM:+0100
TZOFFSETTO:+0200
TZNAME:CEST
DTSTART:20250330T010000
END:DAYLIGHT
BEGIN:STANDARD
TZOFFSETFROM:+0200
TZOFFSETTO:+0100
TZNAME:CET
DTSTART:20251026T010000
END:STANDARD
END:VTIMEZONE
BEGIN:VEVENT
DTSTART;VALUE=DATE:20240831
DTEND;VALUE=DATE:20240902
DTSTAMP:20260422T123814
CREATED:20240827T095557Z
LAST-MODIFIED:20240827T095557Z
UID:15509-1725062400-1725235199@www.dragodid.org
SUMMARY:Kamik i gromači 6
DESCRIPTION:Udruga Brsečki česan 31. kolovoza i 1. rujna organizira šestu suhozidnu radionicu Kamik i gromači u etnološkom parku posvećenom izvornom graditelju Antonu Plašimuhi u zaseoku Janjetići\, naselje Tuliševica u Lovranu. Donesite radnu odjeću\, šešir i rukavice te apetit\, a organizatori će se pobrinuti za dobar štimung i okrjepu. Najave na 0918852422 ili brseckicesan@gmail.com. \nReportaža Boja zemlje o lanjskoj radionici: https://www.youtube.com/watch?v=S6FkWty49Kk \nRadionicu financiraju Ministarstvo kulture i medija i LAG Terra Liburna.
URL:https://www.dragodid.org/event/kamik-i-gromaci-6/
END:VEVENT
BEGIN:VEVENT
DTSTART;VALUE=DATE:20240902
DTEND;VALUE=DATE:20240908
DTSTAMP:20260422T123814
CREATED:20240827T100357Z
LAST-MODIFIED:20240827T100357Z
UID:15514-1725235200-1725753599@www.dragodid.org
SUMMARY:20. paljenje japlenice u Žminju
DESCRIPTION:Branko Orbanić iz Kapitela i udruga Brsečki česan pozivaju na obilježavanje 20. godine paljenja japlenice u Žminju: \n \nRaspored radionica i predavanja \nRadionica ručne izrade papira
URL:https://www.dragodid.org/event/20-paljenje-japlenice-u-zminju/
END:VEVENT
BEGIN:VEVENT
DTSTART;TZID=Europe/Zagreb:20240919T110000
DTEND;TZID=Europe/Zagreb:20240922T140000
DTSTAMP:20260422T123814
CREATED:20240918T184035Z
LAST-MODIFIED:20240918T184035Z
UID:15595-1726743600-1727013600@www.dragodid.org
SUMMARY:Radionica suhozidanja i obnove lokve Gnjilovače na Zlarinu
DESCRIPTION:U planu je još jedna radionica obnove lokve – s Udruga Tatavaka na Zlarinu smo već obnavljali lokvu “Lokvicu”\, a ova slatkovodna suradnja uspješno se nastavlja: ovaj puta obnavljamo lokvu “Gnjilovaču”.\n\n\nProgram:\nČET 19.09. 11h – 17h\nŠetnja do lokve\, upoznavanje s terenom\, izvlačenje kamenja i pripremanje terena za obnovu\, početak obnove podzida i slaganje kamenja.\nPET 20.09. i SUB 21.09. 9h – 17h\nGradnja podzida (slaganje kamena) uz čišćenje lokve od šikare.\nNED 22.09. 10h – 14h\nZavršni radovi\, elaboracija postupka\, dijeljenje dojmova.\nMjesto okupljanja:\nIGRALIŠTE FINGAC\, ZLARIN\n\n\nRukavice i alat osigurani su za sve sudionike radionice\, kao i ručak na terenu.\nPrijave za sudjelovanje primamo putem poruka s imenom i prezimenom voditelju projekta Roku Buneti Čikutoviću na\n092 201 1203\n\n\nObnova lokve Gnjilovače na Zlarinu provodi Udruga Tatavaka u partnerstvu s udrugom Dragodid\,turističkom zajednicom Zlarini Dvd Zlarin u sklopu projekta “Širenje KAPaciteta otoka Zlarina za samoodrživo upravljanje slatkovodnim resursima” (KAP) financiranog odstrane Ministarstva regionalnog razvoja i fondova EU Republike Hrvatske.
URL:https://www.dragodid.org/event/radionica-suhozidanja-i-obnove-lokve-gnjilovace-na-zlarinu/
LOCATION:Zlarin\, Croatia (Local Name: Hrvatska)
CATEGORIES:suhozidne radionice
END:VEVENT
BEGIN:VEVENT
DTSTART;TZID=Europe/Zagreb:20240920T083000
DTEND;TZID=Europe/Zagreb:20240920T110000
DTSTAMP:20260422T123814
CREATED:20240918T183557Z
LAST-MODIFIED:20240918T183831Z
UID:15589-1726821000-1726830000@www.dragodid.org
SUMMARY:Radionica gradnje suhozida u solanskoj Vali
DESCRIPTION:MISEC PAŠKE SOLI – PETAK 20.9.\n\nu 08:30 sati u sklopu manifestacije Misec paške soli održat će se radionica gradnje suhozida u solanskoj Vali. \n\n\nUlaz u solansku Valu i sudjelovanje na radionici je besplatno!\n\n\n\nViše informacija o Misecu paške soli: https://solana-pag.hr/rujan-rezervirajte-za-otok-pag-pred-nama-je-misec-paske-soli/
URL:https://www.dragodid.org/event/radionica-gradnje-suhozida-u-solanskoj-vali/
LOCATION:Solanska Vala\, Pag\, Croatia (Local Name: Hrvatska)
CATEGORIES:suhozidne radionice
END:VEVENT
BEGIN:VEVENT
DTSTART;TZID=Europe/Zagreb:20240922T200000
DTEND;TZID=Europe/Zagreb:20240922T213000
DTSTAMP:20260422T123814
CREATED:20240912T181315Z
LAST-MODIFIED:20240912T181623Z
UID:15572-1727035200-1727040600@www.dragodid.org
SUMMARY:Hvarska premijera dokumentarnog filma „Kamena čipka našeg sela“
DESCRIPTION:Velo Grablje\, selo na otoku Hvaru\, jedan je od najvećih i najbolje očuvanih primjera suhozidne gradnje. Škrta zemlja i mukotrpan rad našeg težaka oblikovali su čitav krajolik suhozidom (u dijalektu zvanom gomile). Udruga za zaštitu i revitalizaciju Veloga Grablja „Pjover“\, kao krunu dugogodišnjih nastojanja i truda\, a najviše kao dug našim precima\, organizirala je u ožujku 2024. godine manifestaciju „Dani suhozida na Hvaru“\, tijekom koje je pokrenuta inicijativa da se čudesan prostor oko sela proglasi suhozidnim parkom.\n\n\nU sklopu programa manifestacije dokumentiran je video zapis\, koji će premijerno prikazati u Hvaru\, na Venerandi\, u nedjelju\, 22. rujna 2024.\, s početkom u 20 sati.\n\n\n\nSvi ste pozvani\, ulaz je slobodan!\n\n\n\n\n\n\nRežija: Igor Crnković\n\n\nKamera: Igor Crnković i Borut Brozović\n\n\nGlazba: Nino Marević\n\n\nProdukcija: Pilot Medija i udruga Pjover\n\n\nTrajanje: 20 min\n\n\n\nTuristička zajednica grada Hvara\, Grad Hvar\, U. Pjover\, Kino Mediteran\, Pilot Media
URL:https://www.dragodid.org/event/hvarska-premijera-dokumentarnog-filma-kamena-cipka-naseg-sela/
LOCATION:Hvar\, Veneranda\, Croatia (Local Name: Hrvatska)
CATEGORIES:predavanja
END:VEVENT
END:VCALENDAR